BEGIN:VCALENDAR
VERSION:2.0
PRODID:-//pretix//pretix.eu//
BEGIN:VEVENT
UID:pretix-univention-summit24-0@tickets.univention-summit.de
DTSTART;VALUE=DATE:20240125
DTEND;VALUE=DATE:20240127
DESCRIPTION:Tickets: https://tickets.univention-summit.de/summit24/\nOrgani
 zer: Univention GmbH
DTSTAMP:20260420T095407Z
LOCATION:Congress Centrum Bremen
SUMMARY:Univention Summit 2024
END:VEVENT
END:VCALENDAR
